BEGIN:VCALENDAR
VERSION:2.0
PRODID:-//AxiomCore v0.1//NONSGML iCal Writer//EN
CALSCALE:GREGORIAN
METHOD:PUBLISH
BEGIN:VEVENT
DTSTART:20230504T000000Z
DTEND:20230506T000000Z
DTSTAMP:20260420T010824Z
UID:83e3b57804a5f111d3bfc34fc9e9e640@nzssd.org.nz
CREATED:20220829T164323Z
DESCRIPTION:NZSSD\n2023 Annual Scientific Meeting and Annual General 
LAST-MODIFIED:20230414T113744Z
SEQUENCE:0
STATUS:CONFIRMED
SUMMARY:NZSSD / 2023 Annual Scientific Meeting and Annual General 
TRANSP:OPAQUE
END:VEVENT
BEGIN:VEVENT
DTSTART:20221115T220000Z
DTEND:20221115T220000Z
DTSTAMP:20260420T010824Z
UID:3f5e87326cd2afd6e15b0af43b3eba91@nzssd.org.nz
CREATED:20220829T164323Z
DESCRIPTION:NZSSD\n2023 Annual Scientific Meeting and Annual General \nAbstract submissions open
LAST-MODIFIED:20230414T113744Z
SEQUENCE:0
STATUS:CONFIRMED
SUMMARY:NZSSD / 2023 Annual Scientific Meeting and Annual General  / Abstract submissions open
TRANSP:OPAQUE
END:VEVENT
BEGIN:VEVENT
DTSTART:20221201T220000Z
DTEND:20221201T220000Z
DTSTAMP:20260420T010824Z
UID:afc78db76aba2ae1d9b72878cbba1650@nzssd.org.nz
CREATED:20220829T164323Z
DESCRIPTION:NZSSD\n2023 Annual Scientific Meeting and Annual General \nTravel Grant Applications Open
LAST-MODIFIED:20230414T113744Z
SEQUENCE:0
STATUS:CONFIRMED
SUMMARY:NZSSD / 2023 Annual Scientific Meeting and Annual General  / Travel Grant Applications Open
TRANSP:OPAQUE
END:VEVENT
BEGIN:VEVENT
DTSTART:20221201T220000Z
DTEND:20221201T220000Z
DTSTAMP:20260420T010824Z
UID:e72932432e88d429929605883a17627d@nzssd.org.nz
CREATED:20220829T164323Z
DESCRIPTION:NZSSD\n2023 Annual Scientific Meeting and Annual General \nEarly Bird Registration Open
LAST-MODIFIED:20230414T113744Z
SEQUENCE:0
STATUS:CONFIRMED
SUMMARY:NZSSD / 2023 Annual Scientific Meeting and Annual General  / Early Bird Registration Open
TRANSP:OPAQUE
END:VEVENT
BEGIN:VEVENT
DTSTART:20230217T170000Z
DTEND:20230217T170000Z
DTSTAMP:20260420T010824Z
UID:7d87a66c1a9a5c6073792bc18ea5c62b@nzssd.org.nz
CREATED:20220829T164323Z
DESCRIPTION:NZSSD\n2023 Annual Scientific Meeting and Annual General \nAbstract submissions close
LAST-MODIFIED:20230414T113744Z
SEQUENCE:0
STATUS:CONFIRMED
SUMMARY:NZSSD / 2023 Annual Scientific Meeting and Annual General  / Abstract submissions close
TRANSP:OPAQUE
END:VEVENT
BEGIN:VEVENT
DTSTART:20230310T220000Z
DTEND:20230310T220000Z
DTSTAMP:20260420T010824Z
UID:9b43d0e52787013528d56c2bed0eac7c@nzssd.org.nz
CREATED:20220829T164323Z
DESCRIPTION:NZSSD\n2023 Annual Scientific Meeting and Annual General \nAbstract submissions decision date
LAST-MODIFIED:20230414T113744Z
SEQUENCE:0
STATUS:CONFIRMED
SUMMARY:NZSSD / 2023 Annual Scientific Meeting and Annual General  / Abstract submissions decision date
TRANSP:OPAQUE
END:VEVENT
BEGIN:VEVENT
DTSTART:20230319T220000Z
DTEND:20230319T220000Z
DTSTAMP:20260420T010824Z
UID:c3521a5c25df74d7ad680a1e8d446632@nzssd.org.nz
CREATED:20220829T164323Z
DESCRIPTION:NZSSD\n2023 Annual Scientific Meeting and Annual General \nEarly bird registrations close
LAST-MODIFIED:20230414T113744Z
SEQUENCE:0
STATUS:CONFIRMED
SUMMARY:NZSSD / 2023 Annual Scientific Meeting and Annual General  / Early bird registrations close
TRANSP:OPAQUE
END:VEVENT
BEGIN:VEVENT
DTSTART:20230320T220000Z
DTEND:20230320T220000Z
DTSTAMP:20260420T010824Z
UID:9cdfb3296cba95256fec9ffa62276f82@nzssd.org.nz
CREATED:20220829T164323Z
DESCRIPTION:NZSSD\n2023 Annual Scientific Meeting and Annual General \nStandard Registration Rates Apply From
LAST-MODIFIED:20230414T113744Z
SEQUENCE:0
STATUS:CONFIRMED
SUMMARY:NZSSD / 2023 Annual Scientific Meeting and Annual General  / Standard Registration Rates Apply From
TRANSP:OPAQUE
END:VEVENT
BEGIN:VEVENT
DTSTART:20230428T220000Z
DTEND:20230428T220000Z
DTSTAMP:20260420T010824Z
UID:92af8f593e2735a48d069a945bf58461@nzssd.org.nz
CREATED:20220829T164323Z
DESCRIPTION:NZSSD\n2023 Annual Scientific Meeting and Annual General \nStandard Registration Rates Apply To
LAST-MODIFIED:20230414T113744Z
SEQUENCE:0
STATUS:CONFIRMED
SUMMARY:NZSSD / 2023 Annual Scientific Meeting and Annual General  / Standard Registration Rates Apply To
TRANSP:OPAQUE
END:VEVENT
BEGIN:VEVENT
DTSTART:20230429T220000Z
DTEND:20230429T220000Z
DTSTAMP:20260420T010824Z
UID:9dc292f4b5b0e5bc97166c24b0b58829@nzssd.org.nz
CREATED:20220829T164323Z
DESCRIPTION:NZSSD\n2023 Annual Scientific Meeting and Annual General \nLate Fee Applies From
LAST-MODIFIED:20230414T113744Z
SEQUENCE:0
STATUS:CONFIRMED
SUMMARY:NZSSD / 2023 Annual Scientific Meeting and Annual General  / Late Fee Applies From
TRANSP:OPAQUE
END:VEVENT
END:VCALENDAR