BEGIN:VCALENDAR
VERSION:2.0
PRODID:-//AxiomCore v0.1//NONSGML iCal Writer//EN
CALSCALE:GREGORIAN
METHOD:PUBLISH
BEGIN:VEVENT
DTSTART:20210429T160000Z
DTEND:20211230T180000Z
DTSTAMP:20260420T010726Z
UID:d0a3352df5742f4dfcb94a9a8c0f246a@nzssd.org.nz
CREATED:20200129T002542Z
DESCRIPTION:NZSSD\n2021 Webinar series
LAST-MODIFIED:20211008T135820Z
SEQUENCE:0
STATUS:CONFIRMED
SUMMARY:NZSSD / 2021 Webinar series
TRANSP:OPAQUE
END:VEVENT
BEGIN:VEVENT
DTSTART:20211103T160000Z
DTEND:20211103T160000Z
DTSTAMP:20260420T010726Z
UID:5783d420b9d27bdbbbbadb1d6e8d2b77@nzssd.org.nz
CREATED:20200129T002542Z
DESCRIPTION:NZSSD\n2021 Webinar series\nWebinar November
LAST-MODIFIED:20211008T135820Z
SEQUENCE:0
STATUS:CONFIRMED
SUMMARY:NZSSD / 2021 Webinar series / Webinar November
TRANSP:OPAQUE
END:VEVENT
END:VCALENDAR